BEGIN:VCALENDAR
VERSION:2.0
PRODID:-//Sabre//Sabre VObject 4.5.8//EN
CALSCALE:GREGORIAN
BEGIN:VEVENT
UID:sabre-vobject-b54a6730-518f-4ee4-bafb-6387cc144b0c
DTSTAMP:20260425T021139Z
SUMMARY:St. Simpert: Konvent-Rosenkranz
DESCRIPTION:https://www2.bistum-augsburg.de/gottesdienste/st-simpert-konven
 t-rosenkranz_id1724677
DTSTART;TZID=Europe/Berlin:20260503T093000
DURATION:PT30M
LOCATION:St. Anna
END:VEVENT
END:VCALENDAR
