BEGIN:VCALENDAR
VERSION:2.0
PRODID:-//Sabre//Sabre VObject 4.5.8//EN
CALSCALE:GREGORIAN
BEGIN:VEVENT
UID:sabre-vobject-54ae846f-40b7-4268-88ae-09b5a1d30a10
DTSTAMP:20260425T234039Z
SUMMARY:Schülermesse
DESCRIPTION:https://www2.bistum-augsburg.de/gottesdienste/schuelermesse_id1
 724683
DTSTART;TZID=Europe/Berlin:20260429T063000
DURATION:PT30M
LOCATION:St. Josef
END:VEVENT
END:VCALENDAR
