BEGIN:VCALENDAR
VERSION:2.0
PRODID:-//Sabre//Sabre VObject 4.5.8//EN
CALSCALE:GREGORIAN
BEGIN:VEVENT
UID:sabre-vobject-48e9fc9e-b36c-4696-be5e-55fbf8312641
DTSTAMP:20260424T211341Z
SUMMARY:Hl. Messe entfällt
DESCRIPTION:https://www2.bistum-augsburg.de/gottesdienste/hl-messe-entfaell
 t_id1724701
DTSTART;TZID=Europe/Berlin:20260513T180000
DURATION:PT30M
LOCATION:St. Michael\, Kirchpl. \, 86415 Mering
END:VEVENT
END:VCALENDAR
