BEGIN:VCALENDAR
VERSION:2.0
PRODID:-//Sabre//Sabre VObject 4.5.8//EN
CALSCALE:GREGORIAN
BEGIN:VEVENT
UID:sabre-vobject-7cf8270e-6592-48d9-8dbe-3626f6aee590
DTSTAMP:20260425T005801Z
SUMMARY:evangelischer Gottesdienst
DESCRIPTION:https://www2.bistum-augsburg.de/gottesdienste/evangelischer-got
 tesdienst_id1724729
DTSTART;TZID=Europe/Berlin:20260525T110000
DURATION:PT30M
LOCATION:St. Antonius (Einsiedler)\, Graf-Kirchberg-Straße 32\, 89257 Ille
 rtissen
END:VEVENT
END:VCALENDAR
