BEGIN:VCALENDAR
VERSION:2.0
PRODID:-//Sabre//Sabre VObject 4.5.8//EN
CALSCALE:GREGORIAN
BEGIN:VEVENT
UID:sabre-vobject-e5803959-baf4-472b-abfd-9d0103271ad6
DTSTAMP:20260424T131314Z
SUMMARY:Hl. Messe
DESCRIPTION:https://www2.bistum-augsburg.de/gottesdienste/hl-messe_id172473
 2
DTSTART;TZID=Europe/Berlin:20260514T103000
DURATION:PT30M
LOCATION:St. Michael\, Kirchpl. \, 86415 Mering
END:VEVENT
END:VCALENDAR
