BEGIN:VCALENDAR
VERSION:2.0
PRODID:-//Sabre//Sabre VObject 4.5.8//EN
CALSCALE:GREGORIAN
BEGIN:VEVENT
UID:sabre-vobject-605182e2-ce24-4246-bc38-1a9c88d8d0d9
DTSTAMP:20260425T122836Z
SUMMARY:Rosenkranz und Beichte
DESCRIPTION:https://www2.bistum-augsburg.de/gottesdienste/rosenkranz-und-be
 ichte_id1724743
DTSTART;TZID=Europe/Berlin:20260502T180000
DURATION:PT30M
LOCATION:St. Georg
END:VEVENT
END:VCALENDAR
