BEGIN:VCALENDAR
VERSION:2.0
PRODID:-//Sabre//Sabre VObject 4.5.8//EN
CALSCALE:GREGORIAN
BEGIN:VEVENT
UID:sabre-vobject-4bd3cfee-a295-4491-a17d-2cfd84558e0f
DTSTAMP:20260422T211829Z
SUMMARY:Hl. Messe
DESCRIPTION:https://www2.bistum-augsburg.de/gottesdienste/hl-messe_id172475
 3
DTSTART;TZID=Europe/Berlin:20260425T090000
DURATION:PT30M
LOCATION:St. Anton
END:VEVENT
END:VCALENDAR
