BEGIN:VCALENDAR
VERSION:2.0
PRODID:-//Sabre//Sabre VObject 4.5.8//EN
CALSCALE:GREGORIAN
BEGIN:VEVENT
UID:sabre-vobject-12493a6d-7ce3-4271-ad61-9425b1fbb1f0
DTSTAMP:20260423T225932Z
SUMMARY:Rosenkranz
DESCRIPTION:https://www2.bistum-augsburg.de/gottesdienste/rosenkranz_id1724
 754
DTSTART;TZID=Europe/Berlin:20260510T101500
DURATION:PT30M
LOCATION:St. Laurentius und Elisabeth\, Laurentiuspl. 2\, 86444 Aulzhausen
END:VEVENT
END:VCALENDAR
