BEGIN:VCALENDAR
VERSION:2.0
PRODID:-//Sabre//Sabre VObject 4.5.8//EN
CALSCALE:GREGORIAN
BEGIN:VEVENT
UID:sabre-vobject-88c0ba0f-5c30-4946-86ad-d941ead13b3f
DTSTAMP:20260425T030238Z
SUMMARY:Heilige Messe
DESCRIPTION:https://www2.bistum-augsburg.de/gottesdienste/heilige-messe_id1
 724755
DTSTART;TZID=Europe/Berlin:20260510T103000
DURATION:PT30M
LOCATION:St. Laurentius und Elisabeth\, Laurentiuspl. 2\, 86444 Aulzhausen
END:VEVENT
END:VCALENDAR
