BEGIN:VCALENDAR
VERSION:2.0
PRODID:-//Sabre//Sabre VObject 4.5.8//EN
CALSCALE:GREGORIAN
BEGIN:VEVENT
UID:sabre-vobject-6ef49df1-cfc0-4311-a5d9-23c3356f1ae6
DTSTAMP:20260424T144330Z
SUMMARY:Priesterdonnerstag
DESCRIPTION:https://www2.bistum-augsburg.de/gottesdienste/priesterdonnersta
 g_id1724787
DTSTART;TZID=Europe/Berlin:20260430T000000
DURATION:PT30M
LOCATION:St. Gordian und Epimach
END:VEVENT
END:VCALENDAR
