BEGIN:VCALENDAR
VERSION:2.0
PRODID:-//Sabre//Sabre VObject 4.5.8//EN
CALSCALE:GREGORIAN
BEGIN:VEVENT
UID:sabre-vobject-265647d4-4a72-4e01-a578-9407cea4a2d4
DTSTAMP:20260424T111423Z
SUMMARY:Eucharistische Anbetung mit Aussetzung des Allerheiligsten (Gebetsk
 reis)
DESCRIPTION:https://www2.bistum-augsburg.de/gottesdienste/eucharistische-an
 betung-mit-aussetzung-des-allerheiligsten-gebetskreis_id1724820
DTSTART;TZID=Europe/Berlin:20260505T193000
DURATION:PT30M
LOCATION:St. Jakobus maj.
END:VEVENT
END:VCALENDAR
