BEGIN:VCALENDAR
VERSION:2.0
PRODID:-//Sabre//Sabre VObject 4.5.8//EN
CALSCALE:GREGORIAN
BEGIN:VEVENT
UID:sabre-vobject-4567b15d-7d20-4d8f-9d33-cd2072501306
DTSTAMP:20260425T231824Z
SUMMARY:Heilige Messe
DESCRIPTION:https://www2.bistum-augsburg.de/gottesdienste/heilige-messe_id1
 724831
DTSTART;TZID=Europe/Berlin:20260428T183000
DURATION:PT30M
LOCATION:Herz Jesu
END:VEVENT
END:VCALENDAR
