BEGIN:VCALENDAR
VERSION:2.0
PRODID:-//Sabre//Sabre VObject 4.5.8//EN
CALSCALE:GREGORIAN
BEGIN:VEVENT
UID:sabre-vobject-53be29d9-c8d9-4134-a397-74ff8b8a1622
DTSTAMP:20260423T212437Z
SUMMARY:Heilige Messe
DESCRIPTION:https://www2.bistum-augsburg.de/gottesdienste/heilige-messe_id1
 724840
DTSTART;TZID=Europe/Berlin:20260525T103000
DURATION:PT30M
LOCATION:Mariä Himmelfahrt\, Dorfstraße 6\, 87640 Altdorf
END:VEVENT
END:VCALENDAR
