BEGIN:VCALENDAR
VERSION:2.0
PRODID:-//Sabre//Sabre VObject 4.5.8//EN
CALSCALE:GREGORIAN
BEGIN:VEVENT
UID:sabre-vobject-ec5a6d75-63c0-48f6-acab-738523b95673
DTSTAMP:20260425T132655Z
SUMMARY:Rosenkranz u. Beichtgelegenheit
DESCRIPTION:https://www2.bistum-augsburg.de/gottesdienste/rosenkranz-u-beic
 htgelegenheit_id1724849
DTSTART;TZID=Europe/Berlin:20260523T180000
DURATION:PT30M
LOCATION:Zum Guten Hirten
END:VEVENT
END:VCALENDAR
