BEGIN:VCALENDAR
VERSION:2.0
PRODID:-//Sabre//Sabre VObject 4.5.8//EN
CALSCALE:GREGORIAN
BEGIN:VEVENT
UID:sabre-vobject-84cd82e5-b9b9-4117-8b06-8f255f9ff8ca
DTSTAMP:20260425T231946Z
SUMMARY:Rosenkranz und Beichtgelegenheit
DESCRIPTION:https://www2.bistum-augsburg.de/gottesdienste/rosenkranz-und-be
 ichtgelegenheit_id1724859
DTSTART;TZID=Europe/Berlin:20260522T183000
DURATION:PT30M
LOCATION:St. Georg
END:VEVENT
END:VCALENDAR
