BEGIN:VCALENDAR
VERSION:2.0
PRODID:-//Sabre//Sabre VObject 4.5.8//EN
CALSCALE:GREGORIAN
BEGIN:VEVENT
UID:sabre-vobject-cec834f7-ebe7-4da5-9dfa-28fb9d0318a9
DTSTAMP:20260426T033946Z
SUMMARY:Abendmesse mit Maiandacht
DESCRIPTION:https://www2.bistum-augsburg.de/gottesdienste/abendmesse-mit-ma
 iandacht_id1724860
DTSTART;TZID=Europe/Berlin:20260522T190000
DURATION:PT30M
LOCATION:St. Georg
END:VEVENT
END:VCALENDAR
