BEGIN:VCALENDAR
VERSION:2.0
PRODID:-//Sabre//Sabre VObject 4.5.8//EN
CALSCALE:GREGORIAN
BEGIN:VEVENT
UID:sabre-vobject-7bd64768-c18e-44ad-ac82-f7d0cff4117e
DTSTAMP:20260424T131020Z
SUMMARY:Bittgang von Meringerzell zum Feldkreuz Reifersbrunn
DESCRIPTION:https://www2.bistum-augsburg.de/gottesdienste/bittgang-von-meri
 ngerzell-zum-feldkreuz-reifersbrunn_id1724871
DTSTART;TZID=Europe/Berlin:20260511T180000
DURATION:PT30M
LOCATION:St. Johannes Baptist
END:VEVENT
END:VCALENDAR
