BEGIN:VCALENDAR
VERSION:2.0
PRODID:-//Sabre//Sabre VObject 4.5.8//EN
CALSCALE:GREGORIAN
BEGIN:VEVENT
UID:sabre-vobject-327d6494-cf2a-40ed-a24e-e637d18e50e6
DTSTAMP:20260424T135839Z
SUMMARY:Hl. Messe am Feldkreuz (bei schlechtem Wetter in MZ)
DESCRIPTION:https://www2.bistum-augsburg.de/gottesdienste/hl-messe-am-feldk
 reuz-bei-schlechtem-wetter-in-mz_id1724872
DTSTART;TZID=Europe/Berlin:20260511T183000
DURATION:PT30M
LOCATION:St. Johannes Baptist
END:VEVENT
END:VCALENDAR
