BEGIN:VCALENDAR
VERSION:2.0
PRODID:-//Sabre//Sabre VObject 4.5.8//EN
CALSCALE:GREGORIAN
BEGIN:VEVENT
UID:sabre-vobject-02df1f17-8d22-4df2-a9bd-74f74adf5e89
DTSTAMP:20260425T005706Z
SUMMARY:Feier der Erstkommunion (Anwalting und Gebenhofen) gestaltet vom Pu
 ella-Chor
DESCRIPTION:https://www2.bistum-augsburg.de/gottesdienste/feier-der-erstkom
 munion-anwalting-und-gebenhofen-gestaltet-vom-puella-chor_id1724900
DTSTART;TZID=Europe/Berlin:20260503T103000
DURATION:PT30M
LOCATION:St. Andreas
END:VEVENT
END:VCALENDAR
