BEGIN:VCALENDAR
VERSION:2.0
PRODID:-//Sabre//Sabre VObject 4.5.8//EN
CALSCALE:GREGORIAN
BEGIN:VEVENT
UID:sabre-vobject-53681357-7dc7-43ab-9f3f-37ebed548923
DTSTAMP:20260424T112549Z
SUMMARY:Amt
DESCRIPTION:https://www2.bistum-augsburg.de/gottesdienste/amt_id1724913
DTSTART;TZID=Europe/Berlin:20260510T083000
DURATION:PT30M
LOCATION:St. Michael\, Kirchpl. \, 86415 Mering
END:VEVENT
END:VCALENDAR
