BEGIN:VCALENDAR
VERSION:2.0
PRODID:-//Sabre//Sabre VObject 4.5.8//EN
CALSCALE:GREGORIAN
BEGIN:VEVENT
UID:sabre-vobject-539d9652-57e2-401a-a8db-5754ea56d6e7
DTSTAMP:20260425T033048Z
SUMMARY:feierliche Maiandacht gestaltet vom Kirchenchor
DESCRIPTION:https://www2.bistum-augsburg.de/gottesdienste/feierliche-maiand
 acht-gestaltet-vom-kirchenchor_id1724928
DTSTART;TZID=Europe/Berlin:20260501T183000
DURATION:PT30M
LOCATION:St. Peter und Paul
END:VEVENT
END:VCALENDAR
