BEGIN:VCALENDAR
VERSION:2.0
PRODID:-//Sabre//Sabre VObject 4.5.8//EN
CALSCALE:GREGORIAN
BEGIN:VEVENT
UID:sabre-vobject-13bd5c32-fcd4-4fd0-8033-ad2d31d63037
DTSTAMP:20260425T143155Z
SUMMARY:Heilige Messe - anschl. stille Anbetung
DESCRIPTION:https://www2.bistum-augsburg.de/gottesdienste/heilige-messe-ans
 chl-stille-anbetung_id1724930
DTSTART;TZID=Europe/Berlin:20260501T183000
DURATION:PT30M
LOCATION:St. Peter und Paul
END:VEVENT
END:VCALENDAR
