BEGIN:VCALENDAR
VERSION:2.0
PRODID:-//Sabre//Sabre VObject 4.5.8//EN
CALSCALE:GREGORIAN
BEGIN:VEVENT
UID:sabre-vobject-d9f18b57-63fc-4654-846c-fb87195db3dc
DTSTAMP:20260426T020551Z
SUMMARY:Heilige Messe mit anschließender Maibaumsegnung (Absprache am 17.0
 9.2025 MV)
DESCRIPTION:https://www2.bistum-augsburg.de/gottesdienste/heilige-messe-mit
 -anschliessender-maibaumsegnung-absprache-am-17-09-2025-mv_id1724937
DTSTART;TZID=Europe/Berlin:20260501T090000
DURATION:PT30M
LOCATION:St. Peter und Paul
END:VEVENT
END:VCALENDAR
