BEGIN:VCALENDAR
VERSION:2.0
PRODID:-//Sabre//Sabre VObject 4.5.8//EN
CALSCALE:GREGORIAN
BEGIN:VEVENT
UID:sabre-vobject-8d17a66d-52ae-48d3-baf5-cb4bfa5cd197
DTSTAMP:20260425T143201Z
SUMMARY:Heilige Messe der Katholisch-Italienischen Gemeinde
DESCRIPTION:https://www2.bistum-augsburg.de/gottesdienste/heilige-messe-der
 -katholisch-italienischen-gemeinde_id1724947
DTSTART;TZID=Europe/Berlin:20260524T110000
DURATION:PT30M
LOCATION:St. Canisius\, Hochfeldstr. 63\, 86159 Augsburg
END:VEVENT
END:VCALENDAR
