BEGIN:VCALENDAR
VERSION:2.0
PRODID:-//Sabre//Sabre VObject 4.5.8//EN
CALSCALE:GREGORIAN
BEGIN:VEVENT
UID:sabre-vobject-acf880bb-e10b-43bd-8aa6-11d95099ab0e
DTSTAMP:20260425T005555Z
SUMMARY:Heilige Messe
DESCRIPTION:https://www2.bistum-augsburg.de/gottesdienste/heilige-messe_id1
 724950
DTSTART;TZID=Europe/Berlin:20260525T090000
DURATION:PT30M
LOCATION:St. Canisius\, Hochfeldstr. 63\, 86159 Augsburg
END:VEVENT
END:VCALENDAR
