BEGIN:VCALENDAR
VERSION:2.0
PRODID:-//Sabre//Sabre VObject 4.5.8//EN
CALSCALE:GREGORIAN
BEGIN:VEVENT
UID:sabre-vobject-6ed69187-802b-4d60-bb00-492736434533
DTSTAMP:20260423T155959Z
SUMMARY:Ausflug der Erstkommunionkinder nach Kaufbeuren
DESCRIPTION:https://www2.bistum-augsburg.de/gottesdienste/ausflug-der-erstk
 ommunionkinder-nach-kaufbeuren_id1724956
DTSTART;TZID=Europe/Berlin:20260427T111500
DURATION:PT30M
LOCATION:St. Theodor
END:VEVENT
END:VCALENDAR
