BEGIN:VCALENDAR
VERSION:2.0
PRODID:-//Sabre//Sabre VObject 4.5.8//EN
CALSCALE:GREGORIAN
BEGIN:VEVENT
UID:sabre-vobject-f0c207f8-f3f9-406f-96dd-afb1493ccc3a
DTSTAMP:20260424T113242Z
SUMMARY:Bittgang von St. Michael zum Feldkreuz Reifersbrunn
DESCRIPTION:https://www2.bistum-augsburg.de/gottesdienste/bittgang-von-st-m
 ichael-zum-feldkreuz-reifersbrunn_id1724957
DTSTART;TZID=Europe/Berlin:20260511T180000
DURATION:PT30M
LOCATION:St. Michael\, Kirchpl. \, 86415 Mering
END:VEVENT
END:VCALENDAR
