BEGIN:VCALENDAR
VERSION:2.0
PRODID:-//Sabre//Sabre VObject 4.5.8//EN
CALSCALE:GREGORIAN
BEGIN:VEVENT
UID:sabre-vobject-d505f40d-8941-41c7-9151-50a89a84867e
DTSTAMP:20260424T193027Z
SUMMARY:Hl. Messe in St. Franziskus
DESCRIPTION:https://www2.bistum-augsburg.de/gottesdienste/hl-messe-in-st-fr
 anziskus_id1724962
DTSTART;TZID=Europe/Berlin:20260512T072000
DURATION:PT30M
LOCATION:St. Michael\, Kirchpl. \, 86415 Mering
END:VEVENT
END:VCALENDAR
