BEGIN:VCALENDAR
VERSION:2.0
PRODID:-//Sabre//Sabre VObject 4.5.8//EN
CALSCALE:GREGORIAN
BEGIN:VEVENT
UID:sabre-vobject-0f2eef7e-6bbd-47e3-bf10-8a9d0c116499
DTSTAMP:20260424T000130Z
SUMMARY:Tauffeier
DESCRIPTION:https://www2.bistum-augsburg.de/gottesdienste/tauffeier_id17249
 67
DTSTART;TZID=Europe/Berlin:20260509T120000
DURATION:PT30M
LOCATION:St. Ulrich und Afra
END:VEVENT
END:VCALENDAR
