BEGIN:VCALENDAR
VERSION:2.0
PRODID:-//Sabre//Sabre VObject 4.5.8//EN
CALSCALE:GREGORIAN
BEGIN:VEVENT
UID:sabre-vobject-429cd621-3ef9-4dab-b204-7651098b498d
DTSTAMP:20260424T231403Z
SUMMARY:Abendmesse
DESCRIPTION:https://www2.bistum-augsburg.de/gottesdienste/abendmesse_id1724
 981
DTSTART;TZID=Europe/Berlin:20260505T180000
DURATION:PT30M
LOCATION:St. Meinrad\, Kirchenstraße 23\, 89257 Illertissen
END:VEVENT
END:VCALENDAR
