BEGIN:VCALENDAR
VERSION:2.0
PRODID:-//Sabre//Sabre VObject 4.5.8//EN
CALSCALE:GREGORIAN
BEGIN:VEVENT
UID:sabre-vobject-1166ae3a-087d-45a0-863c-cdaa07bc5704
DTSTAMP:20260425T005736Z
SUMMARY:Messe am Feldkreuz (bei schlechtem Wetter in der Kirche St. Meinrad
 )
DESCRIPTION:https://www2.bistum-augsburg.de/gottesdienste/messe-am-feldkreu
 z-bei-schlechtem-wetter-in-der-kirche-st-meinrad_id1724984
DTSTART;TZID=Europe/Berlin:20260512T190000
DURATION:PT30M
LOCATION:St. Meinrad\, Kirchenstraße 23\, 89257 Illertissen
END:VEVENT
END:VCALENDAR
