BEGIN:VCALENDAR
VERSION:2.0
PRODID:-//Sabre//Sabre VObject 4.5.8//EN
CALSCALE:GREGORIAN
BEGIN:VEVENT
UID:sabre-vobject-b1588673-96bf-4af2-b748-8389b528233a
DTSTAMP:20260424T121127Z
SUMMARY:Festgottesdienst im Pfarrgarten
DESCRIPTION:https://www2.bistum-augsburg.de/gottesdienste/festgottesdienst-
 im-pfarrgarten_id1724985
DTSTART;TZID=Europe/Berlin:20260514T103000
DURATION:PT30M
LOCATION:St. Meinrad\, Kirchenstraße 23\, 89257 Illertissen
END:VEVENT
END:VCALENDAR
