BEGIN:VCALENDAR
VERSION:2.0
PRODID:-//Sabre//Sabre VObject 4.5.8//EN
CALSCALE:GREGORIAN
BEGIN:VEVENT
UID:sabre-vobject-39b6b59b-c7fe-4eaf-97c8-772e06249f2d
DTSTAMP:20260425T032025Z
SUMMARY:Bittrosenkranz
DESCRIPTION:https://www2.bistum-augsburg.de/gottesdienste/bittrosenkranz_id
 1724987
DTSTART;TZID=Europe/Berlin:20260511T190000
DURATION:PT30M
LOCATION:St. Peter und Paul\, Kirchgasse 1\, 86872 Scherstetten
END:VEVENT
END:VCALENDAR
