BEGIN:VCALENDAR
VERSION:2.0
PRODID:-//Sabre//Sabre VObject 4.5.8//EN
CALSCALE:GREGORIAN
BEGIN:VEVENT
UID:sabre-vobject-24ecaf08-05d8-4f34-8f2c-8f72183753aa
DTSTAMP:20260423T212532Z
SUMMARY:Dankandacht
DESCRIPTION:https://www2.bistum-augsburg.de/gottesdienste/dankandacht_id172
 4991
DTSTART;TZID=Europe/Berlin:20260510T173000
DURATION:PT30M
LOCATION:St. Martin\, Kirchberg 5\, 86853 Schwabmühlhausen
END:VEVENT
END:VCALENDAR
