BEGIN:VCALENDAR
VERSION:2.0
PRODID:-//Sabre//Sabre VObject 4.5.8//EN
CALSCALE:GREGORIAN
BEGIN:VEVENT
UID:sabre-vobject-17894fce-aa71-459c-b880-7c3a733f70c0
DTSTAMP:20260423T230056Z
SUMMARY:Festamt mit Flurumgang
DESCRIPTION:https://www2.bistum-augsburg.de/gottesdienste/festamt-mit-fluru
 mgang_id1724994
DTSTART;TZID=Europe/Berlin:20260514T190000
DURATION:PT30M
LOCATION:St. Martin\, Kirchberg 5\, 86853 Schwabmühlhausen
END:VEVENT
END:VCALENDAR
