BEGIN:VCALENDAR
VERSION:2.0
PRODID:-//Sabre//Sabre VObject 4.5.8//EN
CALSCALE:GREGORIAN
BEGIN:VEVENT
UID:sabre-vobject-ef3d175b-3c35-4886-a8b9-ef7b7db0d556
DTSTAMP:20260425T020937Z
SUMMARY:Maiandacht in der Schneckenkapelle
DESCRIPTION:https://www2.bistum-augsburg.de/gottesdienste/maiandacht-in-der
 -schneckenkapelle_id1725014
DTSTART;TZID=Europe/Berlin:20260512T173000
DURATION:PT30M
LOCATION:St. Ulrich und Afra
END:VEVENT
END:VCALENDAR
