BEGIN:VCALENDAR
VERSION:2.0
PRODID:-//Sabre//Sabre VObject 4.5.8//EN
CALSCALE:GREGORIAN
BEGIN:VEVENT
UID:sabre-vobject-d8bf70f7-0844-4b4f-8043-d270a31420c2
DTSTAMP:20260424T180718Z
SUMMARY:Rosenkranz in St. Margaret
DESCRIPTION:https://www2.bistum-augsburg.de/gottesdienste/rosenkranz-in-st-
 margaret_id1725019
DTSTART;TZID=Europe/Berlin:20260513T173000
DURATION:PT30M
LOCATION:St. Ulrich und Afra
END:VEVENT
END:VCALENDAR
