BEGIN:VCALENDAR
VERSION:2.0
PRODID:-//Sabre//Sabre VObject 4.5.8//EN
CALSCALE:GREGORIAN
BEGIN:VEVENT
UID:sabre-vobject-ac2c440f-1326-4431-8498-a3892261fcad
DTSTAMP:20260424T224431Z
SUMMARY:Rosenkranz
DESCRIPTION:https://www2.bistum-augsburg.de/gottesdienste/rosenkranz_id1725
 044
DTSTART;TZID=Europe/Berlin:20260510T133000
DURATION:PT30M
LOCATION:St. Pankratius
END:VEVENT
END:VCALENDAR
