BEGIN:VCALENDAR
VERSION:2.0
PRODID:-//Sabre//Sabre VObject 4.5.8//EN
CALSCALE:GREGORIAN
BEGIN:VEVENT
UID:sabre-vobject-b7620d9a-4b3b-4aa1-ad2a-6fd17d49addf
DTSTAMP:20260425T112137Z
SUMMARY:Vorabendmesse zu CHRISTI HIMMELFAHRT mit Flurumgang Richtung Schie
 ßbichl
DESCRIPTION:https://www2.bistum-augsburg.de/gottesdienste/vorabendmesse-zu-
 christi-himmelfahrt-mit-flurumgang-richtung-schiessbichl_id1725047
DTSTART;TZID=Europe/Berlin:20260513T190000
DURATION:PT30M
LOCATION:St. Pankratius
END:VEVENT
END:VCALENDAR
