BEGIN:VCALENDAR
VERSION:2.0
PRODID:-//Sabre//Sabre VObject 4.5.8//EN
CALSCALE:GREGORIAN
BEGIN:VEVENT
UID:sabre-vobject-ac1c78c3-ac7b-4f68-8967-a37d1471efa4
DTSTAMP:20260425T200652Z
SUMMARY:Hl. Messe
DESCRIPTION:https://www2.bistum-augsburg.de/gottesdienste/hl-messe_id172505
 1
DTSTART;TZID=Europe/Berlin:20260503T080000
DURATION:PT30M
LOCATION:St. Benedikt Basilica minor
END:VEVENT
END:VCALENDAR
