BEGIN:VCALENDAR
VERSION:2.0
PRODID:-//Sabre//Sabre VObject 4.5.8//EN
CALSCALE:GREGORIAN
BEGIN:VEVENT
UID:sabre-vobject-736891e0-409d-4545-8f59-10c4566b1700
DTSTAMP:20260424T154258Z
SUMMARY:Rosenkranz
DESCRIPTION:https://www2.bistum-augsburg.de/gottesdienste/rosenkranz_id1725
 060
DTSTART;TZID=Europe/Berlin:20260531T133000
DURATION:PT30M
LOCATION:St. Pankratius
END:VEVENT
END:VCALENDAR
