BEGIN:VCALENDAR
VERSION:2.0
PRODID:-//Sabre//Sabre VObject 4.5.8//EN
CALSCALE:GREGORIAN
BEGIN:VEVENT
UID:sabre-vobject-dd26f311-19f2-46bc-9a69-7670092e697a
DTSTAMP:20260424T175718Z
SUMMARY:Rosenkranz
DESCRIPTION:https://www2.bistum-augsburg.de/gottesdienste/rosenkranz_id1725
 072
DTSTART;TZID=Europe/Berlin:20260509T100000
DURATION:PT30M
LOCATION:St. Joahnnes Baptist\, Pfarrgasse 6\, 87651 Bernbach
END:VEVENT
END:VCALENDAR
