BEGIN:VCALENDAR
VERSION:2.0
PRODID:-//Sabre//Sabre VObject 4.5.8//EN
CALSCALE:GREGORIAN
BEGIN:VEVENT
UID:sabre-vobject-f230da01-ba03-4814-a003-3deaabdaa9b5
DTSTAMP:20260424T175728Z
SUMMARY:Sonntagsgottesdienst
DESCRIPTION:https://www2.bistum-augsburg.de/gottesdienste/sonntagsgottesdie
 nst_id1725073
DTSTART;TZID=Europe/Berlin:20260510T084500
DURATION:PT30M
LOCATION:St. Joahnnes Baptist\, Pfarrgasse 6\, 87651 Bernbach
END:VEVENT
END:VCALENDAR
