BEGIN:VCALENDAR
VERSION:2.0
PRODID:-//Sabre//Sabre VObject 4.5.8//EN
CALSCALE:GREGORIAN
BEGIN:VEVENT
UID:sabre-vobject-6fe4cf18-8780-465f-bc61-b71084f5d2ad
DTSTAMP:20260424T064440Z
SUMMARY:Heilige Messe (für die Pfarrgemeinde)
DESCRIPTION:https://www2.bistum-augsburg.de/gottesdienste/heilige-messe-fue
 r-die-pfarrgemeinde_id1725083
DTSTART;TZID=Europe/Berlin:20260531T090000
DURATION:PT30M
LOCATION:St. Martin
END:VEVENT
END:VCALENDAR
