BEGIN:VCALENDAR
VERSION:2.0
PRODID:-//Sabre//Sabre VObject 4.5.8//EN
CALSCALE:GREGORIAN
BEGIN:VEVENT
UID:sabre-vobject-e1316b25-24c6-438f-8753-52d7569a9350
DTSTAMP:20260424T094033Z
SUMMARY:Feier der Erstkommunion (für die Pfarrgemeinde)
DESCRIPTION:https://www2.bistum-augsburg.de/gottesdienste/feier-der-erstkom
 munion-fuer-die-pfarrgemeinde_id1725092
DTSTART;TZID=Europe/Berlin:20260517T103000
DURATION:PT30M
LOCATION:Kuratie St. Johannes Baptist\, St. Johannes Straße 2\, 89257 Ille
 rtissen
END:VEVENT
END:VCALENDAR
