BEGIN:VCALENDAR
VERSION:2.0
PRODID:-//Sabre//Sabre VObject 4.5.8//EN
CALSCALE:GREGORIAN
BEGIN:VEVENT
UID:sabre-vobject-534436de-56c2-4ac9-81d0-2143b343ca2e
DTSTAMP:20260424T155312Z
SUMMARY:Festgottesdienst
DESCRIPTION:https://www2.bistum-augsburg.de/gottesdienste/festgottesdienst_
 id1725095
DTSTART;TZID=Europe/Berlin:20260525T103000
DURATION:PT30M
LOCATION:Kuratie St. Johannes Baptist\, St. Johannes Straße 2\, 89257 Ille
 rtissen
END:VEVENT
END:VCALENDAR
