BEGIN:VCALENDAR
VERSION:2.0
PRODID:-//Sabre//Sabre VObject 4.5.8//EN
CALSCALE:GREGORIAN
BEGIN:VEVENT
UID:sabre-vobject-7fa0619f-b00d-427b-8b15-3e188e1dd0db
DTSTAMP:20260424T202930Z
SUMMARY:Rosenkranz
DESCRIPTION:https://www2.bistum-augsburg.de/gottesdienste/rosenkranz_id1725
 101
DTSTART;TZID=Europe/Berlin:20260429T183000
DURATION:PT30M
LOCATION:St. Georg\, Schloßweg 4A\, 88145 Hergatz
END:VEVENT
END:VCALENDAR
