BEGIN:VCALENDAR
VERSION:2.0
PRODID:-//Sabre//Sabre VObject 4.5.8//EN
CALSCALE:GREGORIAN
BEGIN:VEVENT
UID:sabre-vobject-8d0062f0-a114-4ad3-b749-f3df91d23659
DTSTAMP:20260424T003524Z
SUMMARY:Heilige Messe zu CHRISTI HIMMELFAHRT- mit Flurumgang
DESCRIPTION:https://www2.bistum-augsburg.de/gottesdienste/heilige-messe-zu-
 christi-himmelfahrt-mit-flurumgang_id1725113
DTSTART;TZID=Europe/Berlin:20260514T101500
DURATION:PT30M
LOCATION:St. Joahnnes Baptist\, Pfarrgasse 6\, 87651 Bernbach
END:VEVENT
END:VCALENDAR
