BEGIN:VCALENDAR
VERSION:2.0
PRODID:-//Sabre//Sabre VObject 4.5.8//EN
CALSCALE:GREGORIAN
BEGIN:VEVENT
UID:sabre-vobject-b29e43d5-daf2-46ab-91f9-08e5f4abcdb9
DTSTAMP:20260424T075018Z
SUMMARY:Heilige Messe anschl. Maiandacht - 17:30 Uhr Rosenkranz (alte Kirch
 e)
DESCRIPTION:https://www2.bistum-augsburg.de/gottesdienste/heilige-messe-ans
 chl-maiandacht-17-30-uhr-rosenkranz-alte-kirche_id1725121
DTSTART;TZID=Europe/Berlin:20260513T180000
DURATION:PT30M
LOCATION:St. Martin\, Martinsplatz 4\, 86482 Aystetten
END:VEVENT
END:VCALENDAR
