BEGIN:VCALENDAR
VERSION:2.0
PRODID:-//Sabre//Sabre VObject 4.5.8//EN
CALSCALE:GREGORIAN
BEGIN:VEVENT
UID:sabre-vobject-c3e76de9-dd0c-4948-9e82-de615960afde
DTSTAMP:20260424T174524Z
SUMMARY:Abendmesse mit Maiandacht in St. Michael Ob
DESCRIPTION:https://www2.bistum-augsburg.de/gottesdienste/abendmesse-mit-ma
 iandacht-in-st-michael-ob_id1725125
DTSTART;TZID=Europe/Berlin:20260528T190000
DURATION:PT30M
LOCATION:St. Joahnnes Baptist\, Pfarrgasse 6\, 87651 Bernbach
END:VEVENT
END:VCALENDAR
